BEGIN:VCALENDAR
VERSION:2.0
PRODID:-// - ECPv6.15.20//NONSGML v1.0//EN
CALSCALE:GREGORIAN
METHOD:PUBLISH
X-ORIGINAL-URL:https://elternverein-erlinsbach.ch
X-WR-CALDESC:Veranstaltungen für 
REFRESH-INTERVAL;VALUE=DURATION:PT1H
X-Robots-Tag:noindex
X-PUBLISHED-TTL:PT1H
BEGIN:VTIMEZONE
TZID:Europe/Zurich
BEGIN:DAYLIGHT
TZOFFSETFROM:+0100
TZOFFSETTO:+0200
TZNAME:CEST
DTSTART:20250330T010000
END:DAYLIGHT
BEGIN:STANDARD
TZOFFSETFROM:+0200
TZOFFSETTO:+0100
TZNAME:CET
DTSTART:20251026T010000
END:STANDARD
BEGIN:DAYLIGHT
TZOFFSETFROM:+0100
TZOFFSETTO:+0200
TZNAME:CEST
DTSTART:20260329T010000
END:DAYLIGHT
BEGIN:STANDARD
TZOFFSETFROM:+0200
TZOFFSETTO:+0100
TZNAME:CET
DTSTART:20261025T010000
END:STANDARD
BEGIN:DAYLIGHT
TZOFFSETFROM:+0100
TZOFFSETTO:+0200
TZNAME:CEST
DTSTART:20270328T010000
END:DAYLIGHT
BEGIN:STANDARD
TZOFFSETFROM:+0200
TZOFFSETTO:+0100
TZNAME:CET
DTSTART:20271031T010000
END:STANDARD
END:VTIMEZONE
BEGIN:VEVENT
DTSTART;VALUE=DATE:20260918
DTEND;VALUE=DATE:20260919
DTSTAMP:20260419T163638
CREATED:20260101T190656Z
LAST-MODIFIED:20260101T190656Z
UID:5889-1789689600-1789775999@elternverein-erlinsbach.ch
SUMMARY:Clean up day
DESCRIPTION:Zusammen mit der Schule Erzbachtal sind wir bei diesem Event dabei.
URL:https://elternverein-erlinsbach.ch/veranstaltung/clean-up-day/
ATTACH;FMTTYPE=image/png:https://elternverein-erlinsbach.ch/wp-content/uploads/2026/01/22-e1767294380652.png
ORGANIZER;CN="Schule Erzbachtal":MAILTO:schulsekretariat@erlinsbach.ch
END:VEVENT
BEGIN:VEVENT
DTSTART;VALUE=DATE:20261005
DTEND;VALUE=DATE:20261011
DTSTAMP:20260419T163638
CREATED:20250416T184733Z
LAST-MODIFIED:20260101T192516Z
UID:3484-1791158400-1791676799@elternverein-erlinsbach.ch
SUMMARY:Speuzer Ferienpass
DESCRIPTION:Der beliebte Speuzer Ferienpass findet in der zweiten Herbstferienwoche statt. Kinder vom grossen Kindergarten bis zur sechsten Klasse erwartet ein vielseitiges Programm. Der Flyer mit allen Kursen wird in der ersten Schulwoche nach den Sommerferien verteilt. \nFlyer Ferienpass \nWebseite \n 
URL:https://elternverein-erlinsbach.ch/veranstaltung/speuzer-ferienpass/
LOCATION:Diverse Orte\, Erlinsbach
CATEGORIES:Spiel und Spass
ATTACH;FMTTYPE=image/png:https://elternverein-erlinsbach.ch/wp-content/uploads/2026/01/Logo-rund-2-e1767295367158.png
END:VEVENT
BEGIN:VEVENT
DTSTART;TZID=Europe/Zurich:20261019T091500
DTEND;TZID=Europe/Zurich:20261019T111500
DTSTAMP:20260419T163638
CREATED:20250416T185441Z
LAST-MODIFIED:20260101T193023Z
UID:3490-1792401300-1792408500@elternverein-erlinsbach.ch
SUMMARY:Start 4. Quartal Musigzwärgli
DESCRIPTION:Geschichten erleben\, singen\, bewegen und musizieren \nTaucht ein in eine Welt voller Fantasie\, Musik und Bewegung! In diesem besonderen Angebot haben Kinder im Alter von 1\,5 bis 4 Jahren – gemeinsam mit einer vertrauten Begleitperson – die Möglichkeit\, mit allen Sinnen zu entdecken\, zu lernen und Freude zu erleben. \nStart: Montag\, 19.10.2026 \nDauer: 8 Lektionen jeweils am Montagmorgen \nZeit 1. Gruppe: 09.15 – 10.00 Uhr \nZeit 2. Gruppe: 10.30 – 11.15 Uhr \nEnde: Montag\, 07.12.2026 (14.12. Ersatzdatum bei Ausfall Kursleitung) \nKosten: Fr. 133.- (inkl. Kursmaterial) | Mitglieder Fr. 117.– (inkl. Kursmaterial) \nGeschwisterpauschale: Fr. 30.- \nWEITERE INFOS \nOrt: ElKi-Zentrum\, Pfrundweg 2\, 5018 Erlinsbach \nKursleitung: Sandra Hirt \nAnmeldung: Per E-Mail an info@elternverein-erlinsbach.ch Bitte bei der Anmeldung Name\, Alter des Kindes\, Adresse & Telefonnummer angeben.
URL:https://elternverein-erlinsbach.ch/veranstaltung/start-4-quartal-musigzwaergli/
LOCATION:ElKi-Zentrum\,\, Pfrundweg 2\, Erlinsbach\, 5018
CATEGORIES:Eltern-Kind-Zeit
ATTACH;FMTTYPE=image/png:https://elternverein-erlinsbach.ch/wp-content/uploads/2025/12/16-e1766760626527.png
ORGANIZER;CN="Elternverein Erlinsbach":MAILTO:info@elternverein-erlinsbach.ch
END:VEVENT
BEGIN:VEVENT
DTSTART;TZID=Europe/Zurich:20261031T093000
DTEND;TZID=Europe/Zurich:20261031T120000
DTSTAMP:20260419T163639
CREATED:20250416T185058Z
LAST-MODIFIED:20260101T193745Z
UID:3488-1793439000-1793448000@elternverein-erlinsbach.ch
SUMMARY:Wintersport- und Spielzeugbörse
DESCRIPTION:An der Wintersportbörse verkaufen wir für dich Ski & Skischuhe\, Snowboards für Kinder und Erwachsene\, Schlitten\, Schlittschuhe und auch Zubehör wie Skihelme und -brillen. \nWichtiger Hinweis: Accessoires wie Handschuhe\, Mützen\, Schals\, Skianzüge und ähnliche Artikel werden nicht verkauft. Es werden nur intakte Artikel angenommen. \nWarenannahme: 09.00 bis 09.45 Uhr \nVerkauf durch uns: 10.00 bis 12.00 Uhr \nWarenrückgabe / Auszahlung: 12.15 bis 12.45 Uhr \n  \nAn der Spielzeugbörse können Kinder ihre gebrauchten Spielsachen selbst verkaufen. \nVerkauf durch Kinder: 09.30 bis 12.00 Uhr \nMitbringen: Eine Decke oder ein Tuch. \nKomm vorbei\, kaufe\, verkaufe und verweile gemütlich im „Börsenkafi“. \nFlyer
URL:https://elternverein-erlinsbach.ch/veranstaltung/wintersport-und-spielzeugboerse/
LOCATION:Mehrzweckhalle Kretz\,\, Brühlstrasse 1\, Erlinsbach\, 5018
CATEGORIES:Kauf & Verkauf
ATTACH;FMTTYPE=image/png:https://elternverein-erlinsbach.ch/wp-content/uploads/2025/12/17-e1766760588655.png
ORGANIZER;CN="Elternverein Erlinsbach":MAILTO:info@elternverein-erlinsbach.ch
END:VEVENT
BEGIN:VEVENT
DTSTART;TZID=Europe/Zurich:20261112T180000
DTEND;TZID=Europe/Zurich:20261112T180000
DTSTAMP:20260419T163639
CREATED:20250712T123215Z
LAST-MODIFIED:20260101T194329Z
UID:4563-1794506400-1794506400@elternverein-erlinsbach.ch
SUMMARY:Räbeliechtli- und Laternenumzug
DESCRIPTION:Umzugsrouten ab Schulhaus Kretz\nFreiwillige Kinder vom 1. Jahr Kindergarten\, Spielgruppe Paradiesli sowie Waldspielgruppe Springchrut (Start 18.00 Uhr)\nKindergarten Kretz – Brühlstrasse – über Brücke – Kilbigstrasse – Schulanlage Kretz \n1. – 2. Klasse und Kinder\, welche im 2. Jahr im Kindergarten sind Schule Erzbachtal (Start 18.00 Uhr)\nSchulanlage Kretz – Küttigerstrasse – Gehrenstrasse – Fliederweg – Brühlstrasse – über Brücke – Kilbigstrasse – Schulanlage Kretz \nFreiwillige Teilnehmende dürfen am Schluss des Umzuges hinter den zweiten Klassen\, mitlaufen. Die Betreuung und Verpflegung muss selber organisiert werden. \nNach dem Umzug gibt es für die Kinder warmen Tee zum Aufwärmen und ein Sandwich. \nFür die Eltern\, Geschwister und Zuschauer bieten wir in der Schulanlage Kretz zu familienfreundlichen Preisen Bratwurst / Kürbissuppe / Punsch und Glühwein an. \nWir freuen uns auf einen schönen und stimmungsvollen Räbeliechtliumzug! \nWir bitten die Angehörigen der Umzugskinder (2. Kiga bis 2. Kl.) als Zuschauer am Strassenrand zu stehen\, von dort aus den vorbeiziehenden Umzug zu bestaunen und die Kinder nicht während des Umzugs zu begleiten. \nBitte benützen Sie die öffentlichen Verkehrsmittel für die Anreise oder parkieren Sie bitte auf den öffentlichen Parkplätzen. \nDer Kretz-Parkplatz steht nicht zur Verfügung\, die Zufahrt ist gesperrt! \nWir bitten Sie\, auf dem gesamten Schulhausareal auf das Rauchen zu verzichten. \n  \nSpielgruppe\, Kinder vom 1. Kindergartenjahr (angemeldete Kinder)\n \n  \n1. – 2. Klasse und 2. Kindergartenjahr
URL:https://elternverein-erlinsbach.ch/veranstaltung/raebeliechtli-und-laternenumzug/
LOCATION:Schulhaus Kretz\, Brühlstrasse 1\, Erlinsbach\, 5018
CATEGORIES:Kreativ
ATTACH;FMTTYPE=image/png:https://elternverein-erlinsbach.ch/wp-content/uploads/2026/01/Raebeliechtli-e1767296583675.png
ORGANIZER;CN="Elternverein Erlinsbach":MAILTO:info@elternverein-erlinsbach.ch
END:VEVENT
BEGIN:VEVENT
DTSTART;TZID=Europe/Zurich:20261118T131500
DTEND;TZID=Europe/Zurich:20261118T173000
DTSTAMP:20260419T163639
CREATED:20250712T125232Z
LAST-MODIFIED:20260101T194638Z
UID:4575-1795007700-1795023000@elternverein-erlinsbach.ch
SUMMARY:Adventsworkshop
DESCRIPTION:Adventsworkshop – Gemeinsam kreativ in die Weihnachtszeit \nDer Adventsworkshop des Elternvereins Erlinsbach lädt Kinder und ihre Begleitpersonen dazu ein\, gemeinsam in weihnachtlicher Atmosphäre kreativ zu werden. In kleinen Gruppen wird mit viel Freude gebastelt\, gestaltet und dekoriert. Der Workshop bietet eine schöne Gelegenheit\, die Vorfreude auf Weihnachten zu teilen und gemeinsam etwas Selbstgemachtes mit nach Hause zu nehmen. \nOrt: ElKi-Zentrum\, Pfrundweg 2\, Erlinsbach \n\n\n\n \n\nKURS 1: noch offen \nDetails folgen \nZeit: 13.15 – 15.15 Uhr \nKosten: Fr. xx.– | Mitglieder Fr. xx.– \nAlter: 4 – 8 Jahre \n\n\n\n\n\nKURS 2: noch offen \nDetails folgen \nZeit: 15.30 – 17.30 Uhr \nKosten: Fr. xx.– | Mitglieder Fr. xx.– \nAlter: 7 – 12 Jahre \n\n\n\n\nDownload: Flyer \n  \n\nAnmeldeformular\n 
URL:https://elternverein-erlinsbach.ch/veranstaltung/adventsworkshop/
LOCATION:ElKi-Zentrum\,\, Pfrundweg 2\, Erlinsbach\, 5018
CATEGORIES:Kreativ
ATTACH;FMTTYPE=image/png:https://elternverein-erlinsbach.ch/wp-content/uploads/2025/12/18-e1766760604101.png
ORGANIZER;CN="Elternverein Erlinsbach":MAILTO:info@elternverein-erlinsbach.ch
END:VEVENT
BEGIN:VEVENT
DTSTART;TZID=Europe/Zurich:20261120T183000
DTEND;TZID=Europe/Zurich:20261120T220000
DTSTAMP:20260419T163639
CREATED:20250712T125810Z
LAST-MODIFIED:20260101T194858Z
UID:4580-1795199400-1795212000@elternverein-erlinsbach.ch
SUMMARY:Kinderbetreuung Gemeindeversammlung AG
DESCRIPTION:Gemeindeversammlung – und niemand für die Kinderbetreuung?\nMöchtest du aktiv über die Zukunft unseres Dorfes mitbestimmen\, kannst aber nicht an der Gemeindeversammlung teilnehmen\, weil dir eine Betreuungsperson für dein(e) Kind(er) fehlt? \nDer Elternverein Erlinsbach setzt sich dafür ein\, dass Eltern ihre Stimme einbringen können – denn viele Themen betreffen Familien direkt. In Zusammenarbeit mit den Gemeinden ermöglichen wir dir eine sorgenfreie Teilnahme an den Versammlungen: \nVor-Ort-Betreuung: Erfahrene und ausgebildete Babysitter:innen betreuen Kinder ab dem Kindergartenalter während der Gemeindeversammlung. \nBabysitter-Vermittlung: Für jüngere Kinder bieten wir eine Vermittlung zu den üblichen Konditionen des Elternvereins Erlinsbach an. Hier findest du weitere Informationen. \nDieses Angebot ist kostenlos. Allfällige Fragen beantwortet dir gerne Kathrin Meier\, info@elternverein-erlinsbach.ch \nFlyer \n\nAnmeldeformular\n 
URL:https://elternverein-erlinsbach.ch/veranstaltung/kinderbetreuung-gemeindeversammlung-ag-2/
LOCATION:Mehrzweckhalle Kretz\,\, Brühlstrasse 1\, Erlinsbach\, 5018
ATTACH;FMTTYPE=image/png:https://elternverein-erlinsbach.ch/wp-content/uploads/2025/03/Spiel-und-Spass-e1740854302909.png
ORGANIZER;CN="Elternverein Erlinsbach":MAILTO:info@elternverein-erlinsbach.ch
END:VEVENT
BEGIN:VEVENT
DTSTART;TZID=Europe/Zurich:20261123T190000
DTEND;TZID=Europe/Zurich:20261123T220000
DTSTAMP:20260419T163639
CREATED:20250712T130058Z
LAST-MODIFIED:20260101T195150Z
UID:4583-1795460400-1795471200@elternverein-erlinsbach.ch
SUMMARY:Kinderbetreuung Gemeindeversammlung SO
DESCRIPTION:Gemeindeversammlung – und niemand für die Kinderbetreuung? \nMöchtest du aktiv über die Zukunft unseres Dorfes mitbestimmen\, kannst aber nicht an der Gemeindeversammlung teilnehmen\, weil dir eine Betreuungsperson für dein(e) Kind(er) fehlt? \nDer Elternverein Erlinsbach setzt sich dafür ein\, dass Eltern ihre Stimme einbringen können – denn viele Themen betreffen Familien direkt. In Zusammenarbeit mit den Gemeinden ermöglichen wir dir eine sorgenfreie Teilnahme an den Versammlungen: \nVor-Ort-Betreuung: Erfahrene und ausgebildete Babysitter:innen betreuen Kinder ab dem Kindergartenalter während der Gemeindeversammlung. \nBabysitter-Vermittlung: Für jüngere Kinder bieten wir eine Vermittlung zu den üblichen Konditionen des Elternvereins Erlinsbach an. Hier findest du weitere Informationen. \nDieses Angebot ist kostenlos. Allfällige Fragen beantwortet dir gerne Kathrin Meier\, info@elternverein-erlinsbach.ch \nFlyer  \n  \n\nAnmeldeformular\n 
URL:https://elternverein-erlinsbach.ch/veranstaltung/kinderbetreuung-gemeindeversammlung-so/
LOCATION:Altes Schuelhüsli\,\, Dorfplatz 1\, Erlinsbach\, 5015
ATTACH;FMTTYPE=image/png:https://elternverein-erlinsbach.ch/wp-content/uploads/2025/12/20-e1766760836571.png
ORGANIZER;CN="Elternverein Erlinsbach":MAILTO:info@elternverein-erlinsbach.ch
END:VEVENT
BEGIN:VEVENT
DTSTART;TZID=Europe/Zurich:20261128T100000
DTEND;TZID=Europe/Zurich:20261128T170000
DTSTAMP:20260419T163639
CREATED:20250712T130841Z
LAST-MODIFIED:20260101T195345Z
UID:4588-1795860000-1795885200@elternverein-erlinsbach.ch
SUMMARY:Lebkuchen verzieren am Weihnachtsmarkt
DESCRIPTION:Lebkuchen verzieren am Weihnachtsmarkt – Ein süßer Spaß für Kinder! \nAuch dieses Jahr ist der Elternverein Erlinsbach mit einem liebevoll gestalteten Stand am 8. Weihnachtsmarkt in Erlinsbach vertreten! \nHighlight für Kinder: Bei uns können kleine Künstlerinnen und Künstler ihren eigenen Lebkuchen verzieren – mit Zuckerguss\, bunten Streuseln\, Schokolade und vielem mehr. Der Kreativität sind keine Grenzen gesetzt! \nOb als persönliches Weihnachtsgeschenk oder einfach zum Naschen – jedes Kind nimmt am Ende sein ganz individuelles Kunstwerk mit nach Hause. \nOrt: Im Zentrum Rössli Erlinsbach AG\nDatum: Freitag\, 28. November\nUhrzeit: 10:00 – 17:00 Uhr \nKommt vorbei\, genießt die festliche Stimmung und lasst euch von der Vorfreude auf Weihnachten verzaubern. Wir freuen uns auf viele kleine (und große) Lebkuchenkünstler! \n 
URL:https://elternverein-erlinsbach.ch/veranstaltung/lebkuchen-verzieren/
LOCATION:Zentrum Rössli\, Erlinsbach AG\, Poststrasse\, Erlinsbach AG\, 5018\, Switzerland
CATEGORIES:Kreativ
ATTACH;FMTTYPE=image/png:https://elternverein-erlinsbach.ch/wp-content/uploads/2025/07/Design-ohne-Titel-5-e1752325886752.png
ORGANIZER;CN="Elternverein Erlinsbach":MAILTO:info@elternverein-erlinsbach.ch
END:VEVENT
BEGIN:VEVENT
DTSTART;TZID=Europe/Zurich:20261205T090000
DTEND;TZID=Europe/Zurich:20261205T110000
DTSTAMP:20260419T163639
CREATED:20250712T131646Z
LAST-MODIFIED:20260101T195554Z
UID:4592-1796461200-1796468400@elternverein-erlinsbach.ch
SUMMARY:Weihnachtsbäckerei
DESCRIPTION:Bald duftet es wieder herrlich nach Weihnachten!  \nWir freuen uns auf einen weihnachtlichen Backmorgen mit euch. Gemeinsam werden wir köstliche Guetzli-Häuser\, Tannenbäume und wunderschöne Sterne zaubern. \nZeit: 09.00 – 11.00 Uhr \nKosten: Fr. 15.– | Mitglieder Fr. 10.– \nMitnehmen: Kochschürze \nKursleitung: \nAnmeldeschluss:  \nDownload Flyer \n   \n  \n 
URL:https://elternverein-erlinsbach.ch/veranstaltung/weihnachtsbaeckerei/
LOCATION:ElKi-Zentrum\,\, Pfrundweg 2\, Erlinsbach\, 5018
CATEGORIES:Kreativ
ATTACH;FMTTYPE=image/png:https://elternverein-erlinsbach.ch/wp-content/uploads/2025/07/Design-ohne-Titel-6-e1752326104307.png
ORGANIZER;CN="Elternverein Erlinsbach":MAILTO:info@elternverein-erlinsbach.ch
END:VEVENT
END:VCALENDAR